BEGIN:VCALENDAR
VERSION:2.0
PRODID:-//Plone.org//NONSGML plone.app.event//EN
X-WR-TIMEZONE:Europe/Rome
BEGIN:VEVENT
SUMMARY:La fiera Beijing Essen a Shanghai
DTSTART;VALUE=DATE:20191009
DTEND;VALUE=DATE:20191014
DTSTAMP;VALUE=DATE-TIME:20260423T144306Z
UID:2d5b76439a10465da3ee5f275ee93285@10.250.10.10:8099
CREATED;VALUE=DATE-TIME:20191121T081319Z
LAST-MODIFIED;VALUE=DATE-TIME:20200610T123430Z
LOCATION:Shangai
URL:https://welding.cebora.it/ru/events/fiera-beijin
END:VEVENT
END:VCALENDAR
