BEGIN:VCALENDAR
VERSION:2.0
PRODID:-//Plone.org//NONSGML plone.app.event//EN
X-WR-TIMEZONE:Europe/Rome
BEGIN:VEVENT
SUMMARY:Automechanika 2020 - Postponed to 2021
DTSTART;VALUE=DATE:20210914
DTEND;VALUE=DATE:20210919
DTSTAMP;VALUE=DATE-TIME:20260419T230517Z
UID:f845d097effa4b53ae7026719af25973@10.250.10.10:8099
CONTACT:https://automechanika.messefrankfurt.com/frankfurt/en/planning-pre
 paration/exhibitors/exhibitor-brochure.html
CREATED;VALUE=DATE-TIME:20200422T112757Z
DESCRIPTION:Postponed to 2021
LAST-MODIFIED;VALUE=DATE-TIME:20200610T123429Z
LOCATION:Germany - Frankfurt
URL:https://welding.cebora.it/ru/events/automechanika-2020
END:VEVENT
END:VCALENDAR
