BEGIN:VCALENDAR
VERSION:2.0
PRODID:-//Plone.org//NONSGML plone.app.event//EN
X-WR-TIMEZONE:Europe/Rome
BEGIN:VEVENT
SUMMARY:SUBCONTRACTING TRADE FAIR
DTSTART;VALUE=DATE:20241001
DTEND;VALUE=DATE:20241004
DTSTAMP;VALUE=DATE-TIME:20260422T102738Z
UID:481201ff047b41ffa60ee3d585f3e260@10.250.10.10:8099
CONTACT:https://www.alihankinta.fi/en/
CREATED;VALUE=DATE-TIME:20240910T063528Z
DESCRIPTION:Cebotech OY - Stand Air well C1128
LAST-MODIFIED;VALUE=DATE-TIME:20240910T063535Z
LOCATION:Tampere
URL:https://welding.cebora.it/pt-br/subcontracting-trade-fair
END:VEVENT
END:VCALENDAR
