BEGIN:VCALENDAR
VERSION:2.0
PRODID:-//Plone.org//NONSGML plone.app.event//EN
X-WR-TIMEZONE:Europe/Rome
BEGIN:VEVENT
SUMMARY:SEMA SHOW
DTSTART;VALUE=DATE:20241105
DTEND;VALUE=DATE:20241109
DTSTAMP;VALUE=DATE-TIME:20260422T042129Z
UID:a6a5b5298f564d1195fd0783f7e0a837@10.250.10.10:8099
CREATED;VALUE=DATE-TIME:20240910T065146Z
DESCRIPTION:Cebotech Inc. - UPPER SOUTH HALL - BOOTH 33109
LAST-MODIFIED;VALUE=DATE-TIME:20240910T065153Z
LOCATION:Las Vegas
URL:https://welding.cebora.it/pt-br/sema-show
END:VEVENT
END:VCALENDAR
