BEGIN:VCALENDAR
VERSION:2.0
PRODID:-//Plone.org//NONSGML plone.app.event//EN
X-WR-TIMEZONE:Europe/Rome
BEGIN:VEVENT
SUMMARY:FIB
DTSTART;VALUE=DATE:20240923
DTEND;VALUE=DATE:20240928
DTSTAMP;VALUE=DATE-TIME:20260422T182933Z
UID:859ed85c7ebe4864a0e8a63aa94349f0@10.250.10.10:8099
CREATED;VALUE=DATE-TIME:20240910T062441Z
DESCRIPTION:Hall 6\, level 1\, booth 630 - Gueos
LAST-MODIFIED;VALUE=DATE-TIME:20240910T062444Z
LOCATION:Bogotà
URL:https://welding.cebora.it/pt-br/fib
END:VEVENT
END:VCALENDAR
