BEGIN:VCALENDAR
VERSION:2.0
PRODID:-//Plone.org//NONSGML plone.app.event//EN
X-WR-TIMEZONE:Europe/Rome
BEGIN:VEVENT
SUMMARY:Weldex 2019
DTSTART;VALUE=DATE:20191015
DTEND;VALUE=DATE:20191019
DTSTAMP;VALUE=DATE-TIME:20260423T122533Z
UID:5ea077d6698c4891bdd37b8563bf0a55@10.250.10.10:8099
CREATED;VALUE=DATE-TIME:20191125T075815Z
DESCRIPTION:Stand n. A441
LAST-MODIFIED;VALUE=DATE-TIME:20191125T075820Z
LOCATION:Russia - Mosca
URL:https://welding.cebora.it/it/eventi/weldex-2019
END:VEVENT
END:VCALENDAR
