BEGIN:VCALENDAR
VERSION:2.0
PRODID:-//Plone.org//NONSGML plone.app.event//EN
X-WR-TIMEZONE:Europe/Rome
BEGIN:VEVENT
SUMMARY:TOOLEX 2019
DTSTART;VALUE=DATE:20191001
DTEND;VALUE=DATE:20191004
DTSTAMP;VALUE=DATE-TIME:20260423T144306Z
UID:32ae2ae349bf40518811a88fe09dd795@10.250.10.10:8099
CREATED;VALUE=DATE-TIME:20191125T075215Z
LAST-MODIFIED;VALUE=DATE-TIME:20191125T075232Z
LOCATION:Polonia - Sosnowiec
URL:https://welding.cebora.it/it/eventi/toolex-2019
END:VEVENT
END:VCALENDAR
