BEGIN:VCALENDAR
VERSION:2.0
PRODID:-//Plone.org//NONSGML plone.app.event//EN
X-WR-TIMEZONE:Europe/Rome
BEGIN:VEVENT
SUMMARY:The 24th Beijing Essen Welding & Cutting Fair
DTSTART;VALUE=DATE:20190625
DTEND;VALUE=DATE:20190629
DTSTAMP;VALUE=DATE-TIME:20260423T122942Z
UID:ce81253b57d24bee9e48283164f940da@10.250.10.10:8099
CREATED;VALUE=DATE-TIME:20190917T071931Z
DESCRIPTION:Stand n. W1770
LAST-MODIFIED;VALUE=DATE-TIME:20190917T071939Z
LOCATION:Cina - Shanghai
URL:https://welding.cebora.it/it/eventi/the-24th-beijing-essen-welding-cut
 ting-fair
END:VEVENT
END:VCALENDAR
