BEGIN:VCALENDAR
VERSION:2.0
PRODID:-//Plone.org//NONSGML plone.app.event//EN
X-WR-TIMEZONE:Europe/Rome
BEGIN:VEVENT
SUMMARY:SEMA SHOW 2021
DTSTART;TZID=Europe/Rome;VALUE=DATE-TIME:20211102T110000
DTEND;TZID=Europe/Rome;VALUE=DATE-TIME:20211105T120000
DTSTAMP;VALUE=DATE-TIME:20260423T172842Z
UID:c845f02da7484e348caaa622b0001ded@10.250.10.10:8099
CONTACT:https://www.semashow.com/exhibitor
CREATED;VALUE=DATE-TIME:20210702T090216Z
LAST-MODIFIED;VALUE=DATE-TIME:20210702T090227Z
LOCATION:Las Vegas - Nevada
URL:https://welding.cebora.it/it/eventi/sema-show-2021
END:VEVENT
BEGIN:VTIMEZONE
TZID:Europe/Rome
X-LIC-LOCATION:Europe/Rome
BEGIN:STANDARD
DTSTART;VALUE=DATE-TIME:20211031T020000
TZNAME:CET
TZOFFSETFROM:+0200
TZOFFSETTO:+0100
END:STANDARD
END:VTIMEZONE
END:VCALENDAR
