BEGIN:VCALENDAR
VERSION:2.0
PRODID:-//Plone.org//NONSGML plone.app.event//EN
X-WR-TIMEZONE:Europe/Rome
BEGIN:VEVENT
SUMMARY:Schweissen
DTSTART;TZID=Europe/Rome;VALUE=DATE-TIME:20190910T090000
DTEND;TZID=Europe/Rome;VALUE=DATE-TIME:20190912T100000
DTSTAMP;VALUE=DATE-TIME:20260423T144309Z
UID:7a2c6a4918a84a67b3fc801b239dceab@10.250.10.10:8099
CREATED;VALUE=DATE-TIME:20190917T072626Z
LAST-MODIFIED;VALUE=DATE-TIME:20190917T072626Z
LOCATION:Austria - Linz
URL:https://welding.cebora.it/it/eventi/schweissen
END:VEVENT
BEGIN:VTIMEZONE
TZID:Europe/Rome
X-LIC-LOCATION:Europe/Rome
BEGIN:DAYLIGHT
DTSTART;VALUE=DATE-TIME:20190331T030000
TZNAME:CEST
TZOFFSETFROM:+0100
TZOFFSETTO:+0200
END:DAYLIGHT
END:VTIMEZONE
END:VCALENDAR
