BEGIN:VCALENDAR
VERSION:2.0
PRODID:-//Plone.org//NONSGML plone.app.event//EN
X-WR-TIMEZONE:Europe/Rome
BEGIN:VEVENT
SUMMARY:Samumetal Expo
DTSTART;VALUE=DATE:20200206
DTEND;VALUE=DATE:20200209
DTSTAMP;VALUE=DATE-TIME:20260423T172841Z
UID:13abe0f8fbf248a38a6dc48174c2c4ae@10.250.10.10:8099
CONTACT:http://www.samuexpo.com/
CREATED;VALUE=DATE-TIME:20200107T072342Z
DESCRIPTION:Stand 5A - Pad. 2
LAST-MODIFIED;VALUE=DATE-TIME:20200203T074706Z
LOCATION:Italia - Pordenone
URL:https://welding.cebora.it/it/eventi/samumetal-expo
END:VEVENT
END:VCALENDAR
