BEGIN:VCALENDAR
VERSION:2.0
PRODID:-//Plone.org//NONSGML plone.app.event//EN
X-WR-TIMEZONE:Europe/Rome
BEGIN:VEVENT
SUMMARY:RUSWELD 2021
DTSTART;VALUE=DATE:20211018
DTEND;VALUE=DATE:20211022
DTSTAMP;VALUE=DATE-TIME:20260422T184101Z
UID:043c717a14514d9c8eec2c7914866d55@10.250.10.10:8099
CONTACT:https://rusweld-expo.ru/en/
CREATED;VALUE=DATE-TIME:20200623T100445Z
DESCRIPTION:Booth FD025
LAST-MODIFIED;VALUE=DATE-TIME:20211018T142136Z
LOCATION:Russia - Mosca
URL:https://welding.cebora.it/it/eventi/rusweld-2020
END:VEVENT
END:VCALENDAR
