BEGIN:VCALENDAR
VERSION:2.0
PRODID:-//Plone.org//NONSGML plone.app.event//EN
X-WR-TIMEZONE:Europe/Rome
BEGIN:VEVENT
SUMMARY:PLANTWORX 2019
DTSTART;VALUE=DATE:20190611
DTEND;VALUE=DATE:20190614
DTSTAMP;VALUE=DATE-TIME:20260423T172840Z
UID:e7416d647bf84eb8853794fa734f51e2@10.250.10.10:8099
CREATED;VALUE=DATE-TIME:20190917T071742Z
LAST-MODIFIED;VALUE=DATE-TIME:20190917T071742Z
LOCATION:Regno Unito - Peterborough
URL:https://welding.cebora.it/it/eventi/plantworx-2019
END:VEVENT
END:VCALENDAR
