BEGIN:VCALENDAR
VERSION:2.0
PRODID:-//Plone.org//NONSGML plone.app.event//EN
X-WR-TIMEZONE:Europe/Rome
BEGIN:VEVENT
SUMMARY:Northeast 2020 Automotive Services Show - Rinviata al 2021
DTSTART;VALUE=DATE:20210319
DTEND;VALUE=DATE:20210322
DTSTAMP;VALUE=DATE-TIME:20260423T145219Z
UID:48c979cc19bd4d97a0c87ed5d75965fb@10.250.10.10:8099
CONTACT:http://www.aaspnjnortheast.com/about/
CREATED;VALUE=DATE-TIME:20200205T091022Z
DESCRIPTION:Stand n. 619\nRinviata al 2021
LAST-MODIFIED;VALUE=DATE-TIME:20200604T133807Z
LOCATION:USA - New Jersey
URL:https://welding.cebora.it/it/eventi/northeast-2020-automotive-services
 -show
END:VEVENT
END:VCALENDAR
