BEGIN:VCALENDAR
VERSION:2.0
PRODID:-//Plone.org//NONSGML plone.app.event//EN
X-WR-TIMEZONE:Europe/Rome
BEGIN:VEVENT
SUMMARY:MetalMadrid 2019
DTSTART;VALUE=DATE:20191127
DTEND;VALUE=DATE:20191129
DTSTAMP;VALUE=DATE-TIME:20260423T144305Z
UID:2e641b6f4df340a7ae7046a626e52a02@10.250.10.10:8099
CREATED;VALUE=DATE-TIME:20191125T075106Z
DESCRIPTION:Stand n. 7E26 - Pad. 7
LAST-MODIFIED;VALUE=DATE-TIME:20191125T075113Z
LOCATION:Spagna - Madrid
URL:https://welding.cebora.it/it/eventi/metalmadrid-2019
END:VEVENT
END:VCALENDAR
