BEGIN:VCALENDAR
VERSION:2.0
PRODID:-//Plone.org//NONSGML plone.app.event//EN
X-WR-TIMEZONE:Europe/Rome
BEGIN:VEVENT
SUMMARY:MAHATech
DTSTART;VALUE=DATE:20200206
DTEND;VALUE=DATE:20200210
DTSTAMP;VALUE=DATE-TIME:20260423T144308Z
UID:b9f4e96b5e924584a7d77be387d0d4cc@10.250.10.10:8099
CONTACT:https://maha-tech.com/
CREATED;VALUE=DATE-TIME:20200129T110137Z
DESCRIPTION:Stand n. 60 - Pad. A
LAST-MODIFIED;VALUE=DATE-TIME:20200204T112901Z
LOCATION:India - Pune
URL:https://welding.cebora.it/it/eventi/mahatech-1
END:VEVENT
END:VCALENDAR
