BEGIN:VCALENDAR
VERSION:2.0
PRODID:-//Plone.org//NONSGML plone.app.event//EN
X-WR-TIMEZONE:Europe/Rome
BEGIN:VEVENT
SUMMARY:Machtech 2020 - Rinviata al 2021
DTSTART;VALUE=DATE:20210401
DTEND;VALUE=DATE:20210402
DTSTAMP;VALUE=DATE-TIME:20260423T144309Z
UID:7fda518ed8c24c289d69d3e7503290bc@10.250.10.10:8099
CONTACT:https://www.tradefairdates.com/MachTech-InnoTech-Expo-M5278/Sofia.
 html
CREATED;VALUE=DATE-TIME:20200205T093056Z
DESCRIPTION:Hall 2 - Stand C9\nRinviata al 2021
LAST-MODIFIED;VALUE=DATE-TIME:20200604T131541Z
LOCATION:Sofia - Bulgaria
URL:https://welding.cebora.it/it/eventi/machtech-2020
END:VEVENT
END:VCALENDAR
