BEGIN:VCALENDAR
VERSION:2.0
PRODID:-//Plone.org//NONSGML plone.app.event//EN
X-WR-TIMEZONE:Europe/Rome
BEGIN:VEVENT
SUMMARY:LAMMA'19
DTSTART;VALUE=DATE:20190108
DTEND;VALUE=DATE:20190110
DTSTAMP;VALUE=DATE-TIME:20260423T144309Z
UID:fbff4077cf7a4743b485504367054e52@10.250.10.10:8099
CREATED;VALUE=DATE-TIME:20190617T100319Z
DESCRIPTION:STAND 306 - Hall 17
LAST-MODIFIED;VALUE=DATE-TIME:20190617T100319Z
LOCATION:Regno Unito - Birmingham
URL:https://welding.cebora.it/it/eventi/lamma19
END:VEVENT
END:VCALENDAR
