BEGIN:VCALENDAR
VERSION:2.0
PRODID:-//Plone.org//NONSGML plone.app.event//EN
X-WR-TIMEZONE:Europe/Rome
BEGIN:VEVENT
SUMMARY:KONEPAJA 2022
DTSTART;VALUE=DATE:20221129
DTEND;VALUE=DATE:20221202
DTSTAMP;VALUE=DATE-TIME:20260421T103015Z
UID:cb53132dd854405a83f29ed0ce73bd9f@10.250.10.10:8099
CONTACT:https://www.konepajamessut.fi/en/
CREATED;VALUE=DATE-TIME:20221130T125550Z
LAST-MODIFIED;VALUE=DATE-TIME:20221130T125553Z
LOCATION:Tampere - Finlandia
URL:https://welding.cebora.it/it/eventi/konepaja-2022
END:VEVENT
END:VCALENDAR
