BEGIN:VCALENDAR
VERSION:2.0
PRODID:-//Plone.org//NONSGML plone.app.event//EN
X-WR-TIMEZONE:Europe/Rome
BEGIN:VEVENT
SUMMARY:ITM Poland
DTSTART;VALUE=DATE:20180905
DTEND;VALUE=DATE:20180910
DTSTAMP;VALUE=DATE-TIME:20260423T144308Z
UID:6c5a0c3579a547309781a1596aa99071@10.250.10.10:8099
CREATED;VALUE=DATE-TIME:20180905T063038Z
DESCRIPTION:Stand 43 e 59 - Stand 5
LAST-MODIFIED;VALUE=DATE-TIME:20180905T063038Z
LOCATION:Polonia - Poznan
URL:https://welding.cebora.it/it/eventi/itm-poland
END:VEVENT
END:VCALENDAR
