BEGIN:VCALENDAR
VERSION:2.0
PRODID:-//Plone.org//NONSGML plone.app.event//EN
X-WR-TIMEZONE:Europe/Rome
BEGIN:VEVENT
SUMMARY:FARETE
DTSTART;VALUE=DATE:20190904
DTEND;VALUE=DATE:20190906
DTSTAMP;VALUE=DATE-TIME:20260423T144310Z
UID:736d5f6cba88400199af1a44de9524d0@10.250.10.10:8099
CREATED;VALUE=DATE-TIME:20190917T072547Z
DESCRIPTION:Stand n. G44 - Pad. 15
LAST-MODIFIED;VALUE=DATE-TIME:20190917T072555Z
LOCATION:Italia - Bologna
URL:https://welding.cebora.it/it/eventi/farete
END:VEVENT
END:VCALENDAR
