BEGIN:VCALENDAR
VERSION:2.0
PRODID:-//Plone.org//NONSGML plone.app.event//EN
X-WR-TIMEZONE:Europe/Rome
BEGIN:VEVENT
SUMMARY:Expo CESVI 2020
DTSTART;VALUE=DATE:20200220
DTEND;VALUE=DATE:20200223
DTSTAMP;VALUE=DATE-TIME:20260423T144304Z
UID:2aedf6e05cf748e099082026356dff66@10.250.10.10:8099
CONTACT:https://www.nfiere.com/expo-cesvi/
CREATED;VALUE=DATE-TIME:20200129T110012Z
DESCRIPTION:Stand n. D1
LAST-MODIFIED;VALUE=DATE-TIME:20200204T112953Z
LOCATION:Messico - Città del Messico
URL:https://welding.cebora.it/it/eventi/expo-cesvi-2020
END:VEVENT
END:VCALENDAR
