BEGIN:VCALENDAR
VERSION:2.0
PRODID:-//Plone.org//NONSGML plone.app.event//EN
X-WR-TIMEZONE:Europe/Rome
BEGIN:VEVENT
SUMMARY:Equip Auto 2019
DTSTART;VALUE=DATE:20191015
DTEND;VALUE=DATE:20191019
DTSTAMP;VALUE=DATE-TIME:20260423T144307Z
UID:6e49d15e90b745b0aec8a7d4571fed78@10.250.10.10:8099
CREATED;VALUE=DATE-TIME:20191218T083634Z
LAST-MODIFIED;VALUE=DATE-TIME:20191218T083638Z
LOCATION:Francia - Parigi
URL:https://welding.cebora.it/it/eventi/equip-auto-2019
END:VEVENT
END:VCALENDAR
