BEGIN:VCALENDAR
VERSION:2.0
PRODID:-//Plone.org//NONSGML plone.app.event//EN
X-WR-TIMEZONE:Europe/Rome
BEGIN:VEVENT
SUMMARY:Biam Welding - Rinviata al 2021
DTSTART;VALUE=DATE:20210424
DTEND;VALUE=DATE:20210425
DTSTAMP;VALUE=DATE-TIME:20260424T183453Z
UID:9b2a152cdfc949f1b93d548a108df2f7@10.250.10.10:8099
CONTACT:https://www.zv.hr/fairs-2863/biam-welding-2972/2972
CREATED;VALUE=DATE-TIME:20200206T075923Z
DESCRIPTION:Hall 9 - Stand n. 6\nRinviata al 2021
LAST-MODIFIED;VALUE=DATE-TIME:20200604T131553Z
LOCATION:Croazia - Zagabria
URL:https://welding.cebora.it/it/eventi/biam-welding
END:VEVENT
END:VCALENDAR
