BEGIN:VCALENDAR
VERSION:2.0
PRODID:-//Plone.org//NONSGML plone.app.event//EN
X-WR-TIMEZONE:Europe/Rome
BEGIN:VEVENT
SUMMARY:Beijin  2023
DTSTART;VALUE=DATE:20230626
DTEND;VALUE=DATE:20230701
DTSTAMP;VALUE=DATE-TIME:20260424T113400Z
UID:03f79be52016466687b369733fe1d4ca@10.250.10.10:8099
CREATED;VALUE=DATE-TIME:20230627T143634Z
LAST-MODIFIED;VALUE=DATE-TIME:20230627T143726Z
LOCATION:Shenzhen - China
URL:https://welding.cebora.it/it/eventi/beijin-2023
END:VEVENT
END:VCALENDAR
