BEGIN:VCALENDAR
VERSION:2.0
PRODID:-//Plone.org//NONSGML plone.app.event//EN
X-WR-TIMEZONE:Europe/Rome
BEGIN:VEVENT
SUMMARY:Autozum
DTSTART;VALUE=DATE:20190116
DTEND;VALUE=DATE:20190120
DTSTAMP;VALUE=DATE-TIME:20260423T122533Z
UID:8a7aa04a91f64a6eb1089e589f0e646f@10.250.10.10:8099
CREATED;VALUE=DATE-TIME:20190617T100959Z
DESCRIPTION:STAND 407 - HALL 8
LAST-MODIFIED;VALUE=DATE-TIME:20190617T100959Z
LOCATION:Austria - Salisburgo
URL:https://welding.cebora.it/it/eventi/autozum
END:VEVENT
END:VCALENDAR
