BEGIN:VCALENDAR
VERSION:2.0
PRODID:-//Plone.org//NONSGML plone.app.event//EN
X-WR-TIMEZONE:Europe/Rome
BEGIN:VEVENT
SUMMARY:Autopromotec 2019
DTSTART;VALUE=DATE:20190522
DTEND;VALUE=DATE:20190527
DTSTAMP;VALUE=DATE-TIME:20260423T122532Z
UID:cb47d2547efd42228ec1ae0393180925@10.250.10.10:8099
CONTACT:https://www.autopromotec.com/it/index.php
CREATED;VALUE=DATE-TIME:20190322T100943Z
DESCRIPTION:Stand B 100 - Hall 26
LAST-MODIFIED;VALUE=DATE-TIME:20191120T075327Z
LOCATION:Bologna - Italy
URL:https://welding.cebora.it/it/eventi/autopromotec
END:VEVENT
END:VCALENDAR
