BEGIN:VCALENDAR
VERSION:2.0
PRODID:-//Plone.org//NONSGML plone.app.event//EN
X-WR-TIMEZONE:Europe/Rome
BEGIN:VEVENT
SUMMARY:Automechanika Frankfurt
DTSTART;VALUE=DATE:20181109
DTEND;VALUE=DATE:20181112
DTSTAMP;VALUE=DATE-TIME:20260423T201648Z
UID:3f10462ab4224bf184605bbd04a79464@10.250.10.10:8099
CREATED;VALUE=DATE-TIME:20180905T063132Z
DESCRIPTION:Stand D44 - Pad 11.0
LAST-MODIFIED;VALUE=DATE-TIME:20180905T063132Z
LOCATION:Germania - Francoforte
URL:https://welding.cebora.it/it/eventi/automechanika-frankfurt
END:VEVENT
END:VCALENDAR
