BEGIN:VCALENDAR
VERSION:2.0
PRODID:-//Plone.org//NONSGML plone.app.event//EN
X-WR-TIMEZONE:Europe/Rome
BEGIN:VEVENT
SUMMARY:Automechanika 2024
DTSTART;VALUE=DATE:20240910
DTEND;VALUE=DATE:20240915
DTSTAMP;VALUE=DATE-TIME:20260423T144411Z
UID:090cfa7457074ddea7be67398299eba5@10.250.10.10:8099
CREATED;VALUE=DATE-TIME:20240909T141633Z
DESCRIPTION:Cebotech DE
LAST-MODIFIED;VALUE=DATE-TIME:20240910T065351Z
LOCATION:Francoforte
URL:https://welding.cebora.it/it/eventi/automechanika-2024
END:VEVENT
END:VCALENDAR
