BEGIN:VCALENDAR
VERSION:2.0
PRODID:-//Plone.org//NONSGML plone.app.event//EN
X-WR-TIMEZONE:Europe/Rome
BEGIN:VEVENT
SUMMARY:Alihankinta
DTSTART;VALUE=DATE:20190924
DTEND;VALUE=DATE:20190927
DTSTAMP;VALUE=DATE-TIME:20260423T122532Z
UID:6276fa0f3c954752ab46f16de91e6c9c@10.250.10.10:8099
CREATED;VALUE=DATE-TIME:20190917T072841Z
DESCRIPTION:Stand n. C1128
LAST-MODIFIED;VALUE=DATE-TIME:20190917T072855Z
LOCATION:Finlandia - Tampere
URL:https://welding.cebora.it/it/eventi/alihankinta
END:VEVENT
END:VCALENDAR
