BEGIN:VCALENDAR
VERSION:2.0
PRODID:-//Plone.org//NONSGML plone.app.event//EN
X-WR-TIMEZONE:Europe/Rome
BEGIN:VEVENT
SUMMARY:74th International Technical Fair
DTSTART;VALUE=DATE:20190923
DTEND;VALUE=DATE:20190929
DTSTAMP;VALUE=DATE-TIME:20260423T144305Z
UID:de4bfb2138624ab9a8496b83abca1738@10.250.10.10:8099
CREATED;VALUE=DATE-TIME:20190917T072759Z
LAST-MODIFIED;VALUE=DATE-TIME:20190917T072804Z
LOCATION:Bulgaria - Plovdiv
URL:https://welding.cebora.it/it/eventi/74th-international-technical-fair
END:VEVENT
END:VCALENDAR
