BEGIN:VCALENDAR
VERSION:2.0
PRODID:-//Plone.org//NONSGML plone.app.event//EN
X-WR-TIMEZONE:Europe/Rome
BEGIN:VEVENT
SUMMARY:25th Beijing Essen Welding & Cutting fair
DTSTART;VALUE=DATE:20210616
DTEND;VALUE=DATE:20210620
DTSTAMP;VALUE=DATE-TIME:20260421T212906Z
UID:5f4e35880d1a47b099328d7f07cfa771@10.250.10.10:8099
CONTACT:http://www.beijing-essen-welding.com/eng/home.aspx
CREATED;VALUE=DATE-TIME:20210211T154813Z
DESCRIPTION:Hall W1 Booth W1823/1824
LAST-MODIFIED;VALUE=DATE-TIME:20210211T154819Z
LOCATION:Shanghai - Cina
URL:https://welding.cebora.it/fr/evenements/25th-beijing-essen-welding-cut
 ting-fair
END:VEVENT
END:VCALENDAR
