BEGIN:VCALENDAR
VERSION:2.0
PRODID:-//Plone.org//NONSGML plone.app.event//EN
X-WR-TIMEZONE:Europe/Rome
BEGIN:VEVENT
SUMMARY:EuroBLECH 2022
DTSTART;VALUE=DATE:20221025
DTEND;VALUE=DATE:20221029
DTSTAMP;VALUE=DATE-TIME:20260420T012623Z
UID:823adb01182d4d488ac442c860d0b9ce@10.250.10.10:8099
CONTACT:https://www.euroblech.com/
CREATED;VALUE=DATE-TIME:20220504T143501Z
DESCRIPTION:Hall 26 - B84
LAST-MODIFIED;VALUE=DATE-TIME:20220504T143505Z
URL:https://welding.cebora.it/fr/euroblech-2022
END:VEVENT
END:VCALENDAR
