BEGIN:VCALENDAR
VERSION:2.0
PRODID:-//Plone.org//NONSGML plone.app.event//EN
X-WR-TIMEZONE:Europe/Rome
BEGIN:VEVENT
SUMMARY:XXXII Feria Industrial de Bogotá
DTSTART;VALUE=DATE:20181201
DTEND;VALUE=DATE:20181210
DTSTAMP;VALUE=DATE-TIME:20260423T123830Z
UID:894a77b3e89d48feb539700c1a66ef32@10.250.10.10:8099
CREATED;VALUE=DATE-TIME:20180905T063207Z
LAST-MODIFIED;VALUE=DATE-TIME:20191216T083353Z
LOCATION:Colombia - Bogotà
URL:https://welding.cebora.it/en/events/xxxii-feria-industrial-de-bogota
END:VEVENT
END:VCALENDAR
