BEGIN:VCALENDAR
VERSION:2.0
PRODID:-//Plone.org//NONSGML plone.app.event//EN
X-WR-TIMEZONE:Europe/Rome
BEGIN:VEVENT
SUMMARY:SPE Offshore Europe
DTSTART;VALUE=DATE:20190903
DTEND;VALUE=DATE:20190907
DTSTAMP;VALUE=DATE-TIME:20260423T140514Z
UID:378090631bfe46ed969a3c1bd3eaff95@10.250.10.10:8099
CREATED;VALUE=DATE-TIME:20190917T072009Z
LAST-MODIFIED;VALUE=DATE-TIME:20191216T083352Z
LOCATION:Regno Unito - Aberdeen
URL:https://welding.cebora.it/en/events/spe-offshore-europe
END:VEVENT
END:VCALENDAR
