BEGIN:VCALENDAR
VERSION:2.0
PRODID:-//Plone.org//NONSGML plone.app.event//EN
X-WR-TIMEZONE:Europe/Rome
BEGIN:VEVENT
SUMMARY:Northeast 2020 Automotive Services Show - Postponed to 2021
DTSTART;VALUE=DATE:20210319
DTEND;VALUE=DATE:20210322
DTSTAMP;VALUE=DATE-TIME:20260423T150542Z
UID:1ba571a0d3ac41f2b2f96f4def9b4401@10.250.10.10:8099
CONTACT:http://www.aaspnjnortheast.com/
CREATED;VALUE=DATE-TIME:20200205T091938Z
DESCRIPTION:Stand n. 619\nPostponed to 2021
LAST-MODIFIED;VALUE=DATE-TIME:20200604T133807Z
LOCATION:US - New Jersey
URL:https://welding.cebora.it/en/events/northeast-2020-automotive-services
 -show
END:VEVENT
END:VCALENDAR
