BEGIN:VCALENDAR
VERSION:2.0
PRODID:-//Plone.org//NONSGML plone.app.event//EN
X-WR-TIMEZONE:Europe/Rome
BEGIN:VEVENT
SUMMARY:MSV
DTSTART;VALUE=DATE:20191007
DTEND;VALUE=DATE:20191012
DTSTAMP;VALUE=DATE-TIME:20260423T122533Z
UID:fa48330e0264410c86c8f345453fabb5@10.250.10.10:8099
CREATED;VALUE=DATE-TIME:20191125T075351Z
LAST-MODIFIED;VALUE=DATE-TIME:20191216T083352Z
LOCATION:Repubblica Ceca - Brno
URL:https://welding.cebora.it/en/events/msv-1
END:VEVENT
END:VCALENDAR
