BEGIN:VCALENDAR
VERSION:2.0
PRODID:-//Plone.org//NONSGML plone.app.event//EN
X-WR-TIMEZONE:Europe/Rome
BEGIN:VEVENT
SUMMARY:MAHATech
DTSTART;VALUE=DATE:20190207
DTEND;VALUE=DATE:20190211
DTSTAMP;VALUE=DATE-TIME:20260423T144310Z
UID:c48c0ce6c03f47eea4de803c535c296a@10.250.10.10:8099
CREATED;VALUE=DATE-TIME:20190617T101111Z
DESCRIPTION:STAND A- 46A
LAST-MODIFIED;VALUE=DATE-TIME:20191218T084806Z
LOCATION:India - Pune
URL:https://welding.cebora.it/en/events/mahatech
END:VEVENT
END:VCALENDAR
