BEGIN:VCALENDAR
VERSION:2.0
PRODID:-//Plone.org//NONSGML plone.app.event//EN
X-WR-TIMEZONE:Europe/Rome
BEGIN:VEVENT
SUMMARY:MachTech & InnoTech Expo
DTSTART;VALUE=DATE:20241001
DTEND;VALUE=DATE:20241005
DTSTAMP;VALUE=DATE-TIME:20260424T113457Z
UID:4682853b0a504909af565ee96f52f9a2@10.250.10.10:8099
CONTACT:https://it.cantonfair.net/event/19017-machtech-innotech-expo
CREATED;VALUE=DATE-TIME:20240910T064129Z
DESCRIPTION:REDCO - Hall 3 Booth В3
LAST-MODIFIED;VALUE=DATE-TIME:20240910T142905Z
LOCATION:Sofia
URL:https://welding.cebora.it/en/events/machtech-innotech-expo
END:VEVENT
END:VCALENDAR
