BEGIN:VCALENDAR
VERSION:2.0
PRODID:-//Plone.org//NONSGML plone.app.event//EN
X-WR-TIMEZONE:Europe/Rome
BEGIN:VEVENT
SUMMARY:Konepaja - Postponed to 2021
DTSTART;VALUE=DATE:20210317
DTEND;VALUE=DATE:20210320
DTSTAMP;VALUE=DATE-TIME:20260423T122531Z
UID:f3686e9ba9d34da4ac1bc59625a3f3db@10.250.10.10:8099
CONTACT:https://www.konepajamessut.fi/fi/
CREATED;VALUE=DATE-TIME:20200130T195825Z
DESCRIPTION:Stand A 250 - Hall. A  \nPostponed to 2021
LAST-MODIFIED;VALUE=DATE-TIME:20200604T131458Z
LOCATION:Finland - Tampere
URL:https://welding.cebora.it/en/events/konepaja
END:VEVENT
END:VCALENDAR
