BEGIN:VCALENDAR
VERSION:2.0
PRODID:-//Plone.org//NONSGML plone.app.event//EN
X-WR-TIMEZONE:Europe/Rome
BEGIN:VEVENT
SUMMARY:ITM
DTSTART;VALUE=DATE:20190604
DTEND;VALUE=DATE:20190608
DTSTAMP;VALUE=DATE-TIME:20260423T144310Z
UID:307f41f90bb9468386d5c822442beedb@10.250.10.10:8099
CREATED;VALUE=DATE-TIME:20190917T071649Z
LAST-MODIFIED;VALUE=DATE-TIME:20191216T083352Z
LOCATION:Polonia - Poznan
URL:https://welding.cebora.it/en/events/itm
END:VEVENT
END:VCALENDAR
