BEGIN:VCALENDAR
VERSION:2.0
PRODID:-//Plone.org//NONSGML plone.app.event//EN
X-WR-TIMEZONE:Europe/Rome
BEGIN:VEVENT
SUMMARY:Ferroforma
DTSTART;VALUE=DATE:20190604
DTEND;VALUE=DATE:20190607
DTSTAMP;VALUE=DATE-TIME:20260423T172842Z
UID:51d99dc44bf4453fac2a2ff30f2b7565@10.250.10.10:8099
CREATED;VALUE=DATE-TIME:20190917T071545Z
LAST-MODIFIED;VALUE=DATE-TIME:20191216T083351Z
LOCATION:Spagna - Bilbao
URL:https://welding.cebora.it/en/events/ferroforma
END:VEVENT
END:VCALENDAR
