BEGIN:VCALENDAR
VERSION:2.0
PRODID:-//Plone.org//NONSGML plone.app.event//EN
X-WR-TIMEZONE:Europe/Rome
BEGIN:VEVENT
SUMMARY:Biam Welding - Postponed to 2021
DTSTART;VALUE=DATE:20210424
DTEND;VALUE=DATE:20210425
DTSTAMP;VALUE=DATE-TIME:20260423T172842Z
UID:787d2a10effc4429b774788f3c079d78@10.250.10.10:8099
CONTACT:https://www.zv.hr/fairs-2863/biam-welding-2972/2972
CREATED;VALUE=DATE-TIME:20200206T075935Z
DESCRIPTION:Hall 9 - Stand n. 6\nPostponed to 2021
LAST-MODIFIED;VALUE=DATE-TIME:20200604T131553Z
LOCATION:Croatia - Zagreb
URL:https://welding.cebora.it/en/events/biam-welding
END:VEVENT
END:VCALENDAR
