BEGIN:VCALENDAR
VERSION:2.0
PRODID:-//Plone.org//NONSGML plone.app.event//EN
X-WR-TIMEZONE:Europe/Rome
BEGIN:VEVENT
SUMMARY:7th Schweisstec
DTSTART;VALUE=DATE:20191105
DTEND;VALUE=DATE:20191109
DTSTAMP;VALUE=DATE-TIME:20260423T122531Z
UID:e5f9cfa73d0a4d7ca07a5f4c4c785c02@10.250.10.10:8099
CREATED;VALUE=DATE-TIME:20191218T083405Z
LAST-MODIFIED;VALUE=DATE-TIME:20191218T083516Z
LOCATION:Germania - Stoccarda
URL:https://welding.cebora.it/en/events/7th-schweisstec
END:VEVENT
END:VCALENDAR
