BEGIN:VCALENDAR
VERSION:2.0
PRODID:-//Plone.org//NONSGML plone.app.event//EN
X-WR-TIMEZONE:Europe/Rome
BEGIN:VEVENT
SUMMARY:2019 SEMA Show
DTSTART;VALUE=DATE:20191105
DTEND;VALUE=DATE:20191109
DTSTAMP;VALUE=DATE-TIME:20260423T144304Z
UID:72aa2ae91b3c4568b0e42fbe5bd1a255@10.250.10.10:8099
CREATED;VALUE=DATE-TIME:20191218T083250Z
DESCRIPTION:North Hall - Booth no. 10753
LAST-MODIFIED;VALUE=DATE-TIME:20191218T083307Z
LOCATION:USA - Las Vegas
URL:https://welding.cebora.it/en/events/2019-sema-show
END:VEVENT
END:VCALENDAR
