BEGIN:VCALENDAR
VERSION:2.0
PRODID:-//Plone.org//NONSGML plone.app.event//EN
X-WR-TIMEZONE:Europe/Rome
BEGIN:VEVENT
SUMMARY:Weldex 2021
DTSTART;VALUE=DATE:20211012
DTEND;VALUE=DATE:20211016
DTSTAMP;VALUE=DATE-TIME:20260419T184516Z
UID:3c3e7f87891b4511b31e9c73ab61aa31@10.250.10.10:8099
CONTACT:https://weldex.ru/Page/get-eticket
CREATED;VALUE=DATE-TIME:20210803T071554Z
LAST-MODIFIED;VALUE=DATE-TIME:20210803T101613Z
LOCATION:Moscow - Russia
URL:https://welding.cebora.it/de/weldex-2021
END:VEVENT
END:VCALENDAR
