BEGIN:VCALENDAR
VERSION:2.0
PRODID:-//Plone.org//NONSGML plone.app.event//EN
X-WR-TIMEZONE:Europe/Rome
BEGIN:VEVENT
SUMMARY:Automechanika 2022
DTSTART;VALUE=DATE:20220913
DTEND;VALUE=DATE:20220918
DTSTAMP;VALUE=DATE-TIME:20260423T144306Z
UID:ff24a05ae07d4e53888e4e8a00c3daf5@10.250.10.10:8099
CONTACT:https://automechanika.messefrankfurt.com/frankfurt/en.html
CREATED;VALUE=DATE-TIME:20220628T104432Z
LAST-MODIFIED;VALUE=DATE-TIME:20220628T104434Z
LOCATION:Frankfurt
URL:https://welding.cebora.it/de/automechanika-2022
END:VEVENT
END:VCALENDAR
