BEGIN:VCALENDAR
VERSION:2.0
PRODID:-//Plone.org//NONSGML plone.app.event//EN
X-WR-TIMEZONE:Europe/Rome
BEGIN:VEVENT
SUMMARY:32 BIEMH
DTSTART;VALUE=DATE:20240603
DTEND;VALUE=DATE:20240608
DTSTAMP;VALUE=DATE-TIME:20260425T155155Z
UID:a0d2ef628e6e455a855ff02cb1079322@10.250.10.10:8099
CONTACT:https://biemh.bilbaoexhibitioncentre.com/
CREATED;VALUE=DATE-TIME:20240429T095857Z
DESCRIPTION:Stand E07- Hall 5
LAST-MODIFIED;VALUE=DATE-TIME:20240429T095921Z
URL:https://welding.cebora.it/de/32-biemh
END:VEVENT
END:VCALENDAR
